BEGIN:VCALENDAR
VERSION:2.0
PRODID:-//Australian International Shooting Ltd - ECPv6.15.20//NONSGML v1.0//EN
CALSCALE:GREGORIAN
METHOD:PUBLISH
X-WR-CALNAME:Australian International Shooting Ltd
X-ORIGINAL-URL:https://shootingaustralia.org
X-WR-CALDESC:Events for Australian International Shooting Ltd
REFRESH-INTERVAL;VALUE=DURATION:PT1H
X-Robots-Tag:noindex
X-PUBLISHED-TTL:PT1H
BEGIN:VTIMEZONE
TZID:Australia/Melbourne
BEGIN:STANDARD
TZOFFSETFROM:+1100
TZOFFSETTO:+1000
TZNAME:AEST
DTSTART:20250405T160000
END:STANDARD
BEGIN:DAYLIGHT
TZOFFSETFROM:+1000
TZOFFSETTO:+1100
TZNAME:AEDT
DTSTART:20251004T160000
END:DAYLIGHT
BEGIN:STANDARD
TZOFFSETFROM:+1100
TZOFFSETTO:+1000
TZNAME:AEST
DTSTART:20260404T160000
END:STANDARD
BEGIN:DAYLIGHT
TZOFFSETFROM:+1000
TZOFFSETTO:+1100
TZNAME:AEDT
DTSTART:20261003T160000
END:DAYLIGHT
BEGIN:STANDARD
TZOFFSETFROM:+1100
TZOFFSETTO:+1000
TZNAME:AEST
DTSTART:20270403T160000
END:STANDARD
BEGIN:DAYLIGHT
TZOFFSETFROM:+1000
TZOFFSETTO:+1100
TZNAME:AEDT
DTSTART:20271002T160000
END:DAYLIGHT
END:VTIMEZONE
BEGIN:VEVENT
DTSTART;VALUE=DATE:20260501
DTEND;VALUE=DATE:20260504
DTSTAMP:20260421T170831
CREATED:20251103T234522Z
LAST-MODIFIED:20260218T231151Z
UID:10000270-1777593600-1777852799@shootingaustralia.org
SUMMARY:Vintage Open
DESCRIPTION:
URL:https://shootingaustralia.org/event/vintage-open-3/
LOCATION:Cessnock Pistol Club\, Maitland Road\, Cessnock\, NSW\, 2325\, Australia
CATEGORIES:Pistol
GEO:-32.828309;151.3964863
X-APPLE-STRUCTURED-LOCATION;VALUE=URI;X-ADDRESS=Cessnock Pistol Club Maitland Road Cessnock NSW 2325 Australia;X-APPLE-RADIUS=500;X-TITLE=Maitland Road:geo:151.3964863,-32.828309
END:VEVENT
BEGIN:VEVENT
DTSTART;VALUE=DATE:20260502
DTEND;VALUE=DATE:20260504
DTSTAMP:20260421T170831
CREATED:20251106T041115Z
LAST-MODIFIED:20260325T013559Z
UID:10000289-1777680000-1777852799@shootingaustralia.org
SUMMARY:WA State Titles
DESCRIPTION:
URL:https://shootingaustralia.org/event/wa-state-titles-7/
LOCATION:Whiteman Park\, Perth\, Jules Steiner Memorial Drive\, Whiteman\, WA\, 6068\, Australia
CATEGORIES:Pistol
ATTACH;FMTTYPE=image/gif:https://shootingaustralia.org/wp-content/uploads/2024/07/whiteman-park-international-pistol-club-perth-western-australia-pistol-shooting-perth-3.gif
GEO:-31.806462;115.9263887
X-APPLE-STRUCTURED-LOCATION;VALUE=URI;X-ADDRESS=Whiteman Park Perth Jules Steiner Memorial Drive Whiteman WA 6068 Australia;X-APPLE-RADIUS=500;X-TITLE=Jules Steiner Memorial Drive:geo:115.9263887,-31.806462
END:VEVENT
BEGIN:VEVENT
DTSTART;VALUE=DATE:20260516
DTEND;VALUE=DATE:20260518
DTSTAMP:20260421T170831
CREATED:20251103T235008Z
LAST-MODIFIED:20260217T021923Z
UID:10000271-1778889600-1779062399@shootingaustralia.org
SUMMARY:TRV State Championships
DESCRIPTION:
URL:https://shootingaustralia.org/event/trv-state-championships-3/
LOCATION:Melbourne International Shooting Centre\, Todd Road\, Port Melbourne\, VIC\, 3207\, Australia
CATEGORIES:Rifle
ATTACH;FMTTYPE=image/jpeg:https://shootingaustralia.org/wp-content/uploads/2024/11/vic-state-titles-featured.jpg
GEO:-37.8297596;144.9123381
X-APPLE-STRUCTURED-LOCATION;VALUE=URI;X-ADDRESS=Melbourne International Shooting Centre Todd Road Port Melbourne VIC 3207 Australia;X-APPLE-RADIUS=500;X-TITLE=Todd Road:geo:144.9123381,-37.8297596
END:VEVENT
BEGIN:VEVENT
DTSTART;VALUE=DATE:20260517
DTEND;VALUE=DATE:20260524
DTSTAMP:20260421T170831
CREATED:20251103T235303Z
LAST-MODIFIED:20260217T233511Z
UID:10000272-1778976000-1779580799@shootingaustralia.org
SUMMARY:TPA Nationals
DESCRIPTION:
URL:https://shootingaustralia.org/event/tpa-nationals/
LOCATION:Brisbane International Shooting Centre\, Cadden Drive\, Belmont\, QLD\, 4153\, Australia
CATEGORIES:Pistol
ATTACH;FMTTYPE=image/jpeg:https://shootingaustralia.org/wp-content/uploads/2023/11/Pistol-Shooting-Queensland-and-Brisbane-International-Shooting-Centre.jpg
GEO:-27.5068186;153.1307663
X-APPLE-STRUCTURED-LOCATION;VALUE=URI;X-ADDRESS=Brisbane International Shooting Centre Cadden Drive Belmont QLD 4153 Australia;X-APPLE-RADIUS=500;X-TITLE=Cadden Drive:geo:153.1307663,-27.5068186
END:VEVENT
BEGIN:VEVENT
DTSTART;VALUE=DATE:20260522
DTEND;VALUE=DATE:20260525
DTSTAMP:20260421T170831
CREATED:20251103T235427Z
LAST-MODIFIED:20260319T033757Z
UID:10000273-1779408000-1779667199@shootingaustralia.org
SUMMARY:VIC State Titles
DESCRIPTION:Vic State Titles Flyer \n  \nJunior World Championships Selection Event #3 – Read Junior World Championship Selection Criteria \nWorld Championships Selection Event #1 – Read Shotgun World Championships Selection Criteria
URL:https://shootingaustralia.org/event/vic-state-titles-5/
LOCATION:Melbourne Gun Club\, Victoria Road\, Yering\, VIC\, 3770\, Australia
CATEGORIES:Shotgun
ATTACH;FMTTYPE=image/jpeg:https://shootingaustralia.org/wp-content/uploads/2023/11/Melbourne-Gun-Club.jpg
GEO:-37.6852555;145.3477284
X-APPLE-STRUCTURED-LOCATION;VALUE=URI;X-ADDRESS=Melbourne Gun Club Victoria Road Yering VIC 3770 Australia;X-APPLE-RADIUS=500;X-TITLE=Victoria Road:geo:145.3477284,-37.6852555
END:VEVENT
BEGIN:VEVENT
DTSTART;VALUE=DATE:20260605
DTEND;VALUE=DATE:20260609
DTSTAMP:20260421T170831
CREATED:20251103T235632Z
LAST-MODIFIED:20260107T061508Z
UID:10000274-1780617600-1780963199@shootingaustralia.org
SUMMARY:SISC Cup #2
DESCRIPTION:World Championships Selection Event #1 & #2 – Read Pistol/Rifle World Championships Selection Criteria
URL:https://shootingaustralia.org/event/sisc-cup-2/
LOCATION:Sydney International Shooting Centre\, Range Road\, Cecil Park\, NSW\, 2178\, Australia
CATEGORIES:Pistol,Rifle
ATTACH;FMTTYPE=image/jpeg:https://shootingaustralia.org/wp-content/uploads/2023/12/NSW-Government.jpg
GEO:-33.8818295;150.8144983
X-APPLE-STRUCTURED-LOCATION;VALUE=URI;X-ADDRESS=Sydney International Shooting Centre Range Road Cecil Park NSW 2178 Australia;X-APPLE-RADIUS=500;X-TITLE=Range Road:geo:150.8144983,-33.8818295
END:VEVENT
BEGIN:VEVENT
DTSTART;VALUE=DATE:20260612
DTEND;VALUE=DATE:20260615
DTSTAMP:20260421T170831
CREATED:20251103T235851Z
LAST-MODIFIED:20260107T061701Z
UID:10000275-1781222400-1781481599@shootingaustralia.org
SUMMARY:QLD State Titles
DESCRIPTION:World Championships Selection Criteria #2 – Read Shotgun World Championships Selection Criteria
URL:https://shootingaustralia.org/event/qld-state-titles-9/
LOCATION:Brisbane Gun Club\, Mount Petrie Road\, Belmont\, QLD\, 4153\, Australia
CATEGORIES:Shotgun
ATTACH;FMTTYPE=image/jpeg:https://shootingaustralia.org/wp-content/uploads/2023/12/Brisbane-Gun-Club-Clay-Target-.jpg
GEO:-27.519603;153.1258727
X-APPLE-STRUCTURED-LOCATION;VALUE=URI;X-ADDRESS=Brisbane Gun Club Mount Petrie Road Belmont QLD 4153 Australia;X-APPLE-RADIUS=500;X-TITLE=Mount Petrie Road:geo:153.1258727,-27.519603
END:VEVENT
BEGIN:VEVENT
DTSTART;VALUE=DATE:20260702
DTEND;VALUE=DATE:20260706
DTSTAMP:20260421T170831
CREATED:20251104T000040Z
LAST-MODIFIED:20260107T062348Z
UID:10000276-1782950400-1783295999@shootingaustralia.org
SUMMARY:BISC Cup #2
DESCRIPTION:World Championships Selection Event #3 – Read Pistol/Rifle World Championships Selection Criteria
URL:https://shootingaustralia.org/event/queensland-cup/
LOCATION:Brisbane International Shooting Centre\, Cadden Drive\, Belmont\, QLD\, 4153\, Australia
CATEGORIES:Pistol
ATTACH;FMTTYPE=image/jpeg:https://shootingaustralia.org/wp-content/uploads/2023/11/Pistol-Shooting-Queensland-and-Brisbane-International-Shooting-Centre.jpg
GEO:-27.5068186;153.1307663
X-APPLE-STRUCTURED-LOCATION;VALUE=URI;X-ADDRESS=Brisbane International Shooting Centre Cadden Drive Belmont QLD 4153 Australia;X-APPLE-RADIUS=500;X-TITLE=Cadden Drive:geo:153.1307663,-27.5068186
END:VEVENT
BEGIN:VEVENT
DTSTART;VALUE=DATE:20260702
DTEND;VALUE=DATE:20260706
DTSTAMP:20260421T170831
CREATED:20251104T000211Z
LAST-MODIFIED:20251117T005341Z
UID:10000277-1782950400-1783295999@shootingaustralia.org
SUMMARY:BISC Cup #2
DESCRIPTION:
URL:https://shootingaustralia.org/event/queensland-cup-2/
LOCATION:Brisbane International Shooting Centre\, Cadden Drive\, Belmont\, QLD\, 4153\, Australia
CATEGORIES:Rifle
ATTACH;FMTTYPE=image/jpeg:https://shootingaustralia.org/wp-content/uploads/2024/07/Brisbane-International-Shooting-Centre-and-Queensland-Target-Sports-QLD-State-Titles-1.jpg
GEO:-27.5068186;153.1307663
X-APPLE-STRUCTURED-LOCATION;VALUE=URI;X-ADDRESS=Brisbane International Shooting Centre Cadden Drive Belmont QLD 4153 Australia;X-APPLE-RADIUS=500;X-TITLE=Cadden Drive:geo:153.1307663,-27.5068186
END:VEVENT
BEGIN:VEVENT
DTSTART;VALUE=DATE:20260807
DTEND;VALUE=DATE:20260810
DTSTAMP:20260421T170831
CREATED:20251104T000320Z
LAST-MODIFIED:20251104T000320Z
UID:10000278-1786060800-1786319999@shootingaustralia.org
SUMMARY:PSQ State Championships
DESCRIPTION:
URL:https://shootingaustralia.org/event/psq-state-championships/
LOCATION:Brisbane International Shooting Centre\, Cadden Drive\, Belmont\, QLD\, 4153\, Australia
CATEGORIES:Pistol
ATTACH;FMTTYPE=image/jpeg:https://shootingaustralia.org/wp-content/uploads/2023/11/Pistol-Shooting-Queensland-and-Brisbane-International-Shooting-Centre.jpg
GEO:-27.5068186;153.1307663
X-APPLE-STRUCTURED-LOCATION;VALUE=URI;X-ADDRESS=Brisbane International Shooting Centre Cadden Drive Belmont QLD 4153 Australia;X-APPLE-RADIUS=500;X-TITLE=Cadden Drive:geo:153.1307663,-27.5068186
END:VEVENT
BEGIN:VEVENT
DTSTART;VALUE=DATE:20260807
DTEND;VALUE=DATE:20260811
DTSTAMP:20260421T170831
CREATED:20251104T000418Z
LAST-MODIFIED:20260107T062809Z
UID:10000279-1786060800-1786406399@shootingaustralia.org
SUMMARY:Adelaide Cup
DESCRIPTION:World Championships Selection Event #3 – Read Pistol/Rifle World Championships Selection Criteria
URL:https://shootingaustralia.org/event/adelaide-cup-3/
LOCATION:Wingfield\, SA\, Wingfield Road\, Wingfield\, SA\, 5013\, Australia
CATEGORIES:Rifle
ATTACH;FMTTYPE=image/jpeg:https://shootingaustralia.org/wp-content/uploads/2023/12/Target-Rifle-South-Australia-Inc.jpg
GEO:-34.8369748;138.5508755
X-APPLE-STRUCTURED-LOCATION;VALUE=URI;X-ADDRESS=Wingfield SA Wingfield Road Wingfield SA 5013 Australia;X-APPLE-RADIUS=500;X-TITLE=Wingfield Road:geo:138.5508755,-34.8369748
END:VEVENT
BEGIN:VEVENT
DTSTART;VALUE=DATE:20260828
DTEND;VALUE=DATE:20260831
DTSTAMP:20260421T170831
CREATED:20251104T000555Z
LAST-MODIFIED:20251104T000555Z
UID:10000280-1787875200-1788134399@shootingaustralia.org
SUMMARY:MISC GP
DESCRIPTION:
URL:https://shootingaustralia.org/event/misc-gp-2/
LOCATION:Melbourne International Shooting Centre\, Todd Road\, Port Melbourne\, VIC\, 3207\, Australia
CATEGORIES:Pistol,Rifle
ATTACH;FMTTYPE=image/png:https://shootingaustralia.org/wp-content/uploads/2023/12/Melbourne-International-Shooting-Club-.png
GEO:-37.8297596;144.9123381
X-APPLE-STRUCTURED-LOCATION;VALUE=URI;X-ADDRESS=Melbourne International Shooting Centre Todd Road Port Melbourne VIC 3207 Australia;X-APPLE-RADIUS=500;X-TITLE=Todd Road:geo:144.9123381,-37.8297596
END:VEVENT
BEGIN:VEVENT
DTSTART;VALUE=DATE:20260911
DTEND;VALUE=DATE:20260914
DTSTAMP:20260421T170831
CREATED:20251104T000945Z
LAST-MODIFIED:20260107T062952Z
UID:10000281-1789084800-1789343999@shootingaustralia.org
SUMMARY:NSW State Titles
DESCRIPTION:World Championships Selection Event #3 – Read Shotgun World Championships Selection Criteria
URL:https://shootingaustralia.org/event/nsw-state-titles-9/
LOCATION:Sydney International Shooting Centre\, Range Road\, Cecil Park\, NSW\, 2178\, Australia
CATEGORIES:Shotgun
ATTACH;FMTTYPE=image/jpeg:https://shootingaustralia.org/wp-content/uploads/2023/11/NSW-Clay-Target-Assn-and-Cecil-Park-Clay-Target-Club-1.jpg
GEO:-33.8818295;150.8144983
X-APPLE-STRUCTURED-LOCATION;VALUE=URI;X-ADDRESS=Sydney International Shooting Centre Range Road Cecil Park NSW 2178 Australia;X-APPLE-RADIUS=500;X-TITLE=Range Road:geo:150.8144983,-33.8818295
END:VEVENT
BEGIN:VEVENT
DTSTART;VALUE=DATE:20260926
DTEND;VALUE=DATE:20260928
DTSTAMP:20260421T170831
CREATED:20251104T001234Z
LAST-MODIFIED:20251104T001234Z
UID:10000282-1790380800-1790553599@shootingaustralia.org
SUMMARY:SA State Titles
DESCRIPTION:
URL:https://shootingaustralia.org/event/sa-state-titles-8/
LOCATION:Adelaide\, Adelaide\, South Australia\, 5000\, Australia
CATEGORIES:Shotgun
END:VEVENT
BEGIN:VEVENT
DTSTART;VALUE=DATE:20261003
DTEND;VALUE=DATE:20261006
DTSTAMP:20260421T170831
CREATED:20251104T001429Z
LAST-MODIFIED:20251104T004431Z
UID:10000283-1790985600-1791244799@shootingaustralia.org
SUMMARY:SAPA State Titles
DESCRIPTION:Venue TBC
URL:https://shootingaustralia.org/event/sapa-state-titles/
LOCATION:City of Swan
CATEGORIES:Pistol
END:VEVENT
BEGIN:VEVENT
DTSTART;VALUE=DATE:20261003
DTEND;VALUE=DATE:20261006
DTSTAMP:20260421T170831
CREATED:20251104T001801Z
LAST-MODIFIED:20251104T001801Z
UID:10000284-1790985600-1791244799@shootingaustralia.org
SUMMARY:NSW State Titles
DESCRIPTION:
URL:https://shootingaustralia.org/event/nsw-state-titles-10/
LOCATION:Cessnock Pistol Club\, Maitland Road\, Cessnock\, NSW\, 2325\, Australia
CATEGORIES:Pistol
GEO:-32.828309;151.3964863
X-APPLE-STRUCTURED-LOCATION;VALUE=URI;X-ADDRESS=Cessnock Pistol Club Maitland Road Cessnock NSW 2325 Australia;X-APPLE-RADIUS=500;X-TITLE=Maitland Road:geo:151.3964863,-32.828309
END:VEVENT
BEGIN:VEVENT
DTSTART;VALUE=DATE:20261003
DTEND;VALUE=DATE:20261006
DTSTAMP:20260421T170831
CREATED:20251104T001917Z
LAST-MODIFIED:20251104T001917Z
UID:10000285-1790985600-1791244799@shootingaustralia.org
SUMMARY:Queensland State Titles
DESCRIPTION:
URL:https://shootingaustralia.org/event/queensland-state-titles-3/
LOCATION:Brisbane International Shooting Centre\, Cadden Drive\, Belmont\, QLD\, 4153\, Australia
CATEGORIES:Rifle
ATTACH;FMTTYPE=image/jpeg:https://shootingaustralia.org/wp-content/uploads/2024/07/Brisbane-International-Shooting-Centre-and-Queensland-Target-Sports-QLD-State-Titles-1.jpg
GEO:-27.5068186;153.1307663
X-APPLE-STRUCTURED-LOCATION;VALUE=URI;X-ADDRESS=Brisbane International Shooting Centre Cadden Drive Belmont QLD 4153 Australia;X-APPLE-RADIUS=500;X-TITLE=Cadden Drive:geo:153.1307663,-27.5068186
END:VEVENT
BEGIN:VEVENT
DTSTART;VALUE=DATE:20261009
DTEND;VALUE=DATE:20261012
DTSTAMP:20260421T170831
CREATED:20251104T002119Z
LAST-MODIFIED:20251104T002119Z
UID:10000286-1791504000-1791763199@shootingaustralia.org
SUMMARY:Mildura GP
DESCRIPTION:
URL:https://shootingaustralia.org/event/mildura-gp/
LOCATION:Mildura Clay Target Club\, Eleventh Street\, Mildura\, Victoria\, 3500\, Australia
CATEGORIES:Shotgun
GEO:-34.1971756;142.1665369
X-APPLE-STRUCTURED-LOCATION;VALUE=URI;X-ADDRESS=Mildura Clay Target Club Eleventh Street Mildura Victoria 3500 Australia;X-APPLE-RADIUS=500;X-TITLE=Eleventh Street:geo:142.1665369,-34.1971756
END:VEVENT
BEGIN:VEVENT
DTSTART;VALUE=DATE:20261024
DTEND;VALUE=DATE:20261026
DTSTAMP:20260421T170831
CREATED:20251104T002252Z
LAST-MODIFIED:20251104T002409Z
UID:10000287-1792800000-1792972799@shootingaustralia.org
SUMMARY:WA ISSF State Championships
DESCRIPTION:
URL:https://shootingaustralia.org/event/wa-issf-state-championships/
LOCATION:WA Gun Club\, Jules Steiner Memorial Drive\, Whiteman\, Western Australia\, 6068\, Australia
CATEGORIES:Shotgun
ATTACH;FMTTYPE=image/jpeg:https://shootingaustralia.org/wp-content/uploads/2023/12/West-Australian-Gun-Club.jpg
GEO:-31.806462;115.9263887
X-APPLE-STRUCTURED-LOCATION;VALUE=URI;X-ADDRESS=WA Gun Club Jules Steiner Memorial Drive Whiteman Western Australia 6068 Australia;X-APPLE-RADIUS=500;X-TITLE=Jules Steiner Memorial Drive:geo:115.9263887,-31.806462
END:VEVENT
BEGIN:VEVENT
DTSTART;VALUE=DATE:20261212
DTEND;VALUE=DATE:20261213
DTSTAMP:20260421T170831
CREATED:20251104T002729Z
LAST-MODIFIED:20251106T041831Z
UID:10000288-1797033600-1797119999@shootingaustralia.org
SUMMARY:SASA Junior Championships
DESCRIPTION:
URL:https://shootingaustralia.org/event/sasa-junior-championships-2/
LOCATION:Wingfield\, SA\, Wingfield Road\, Wingfield\, SA\, 5013\, Australia
CATEGORIES:Rifle
ATTACH;FMTTYPE=image/jpeg:https://shootingaustralia.org/wp-content/uploads/2023/12/Target-Rifle-South-Australia-Inc.jpg
GEO:-34.8369748;138.5508755
X-APPLE-STRUCTURED-LOCATION;VALUE=URI;X-ADDRESS=Wingfield SA Wingfield Road Wingfield SA 5013 Australia;X-APPLE-RADIUS=500;X-TITLE=Wingfield Road:geo:138.5508755,-34.8369748
END:VEVENT
END:VCALENDAR